BEGIN:VCALENDAR
VERSION:2.0
PRODID:spatie/icalendar-generator
DESCRIPTION:Events from Priest River Animal Rescue
X-WR-CALDESC:Events from Priest River Animal Rescue
REFRESH-INTERVAL;VALUE=DURATION:PT1440M
X-PUBLISHED-TTL:PT1440M
BEGIN:VTIMEZONE
TZID:Etc/GMT+0
BEGIN:STANDARD
DTSTART:20250722T160000Z
TZOFFSETFROM:+0000
TZOFFSETTO:+0000
END:STANDARD
END:VTIMEZONE
BEGIN:VTIMEZONE
TZID:UTC
BEGIN:STANDARD
DTSTART:20250727T150506Z
TZOFFSETFROM:+0000
TZOFFSETTO:+0000
END:STANDARD
END:VTIMEZONE
BEGIN:VEVENT
UID:23-12
DTSTAMP:20260423T150506Z
SUMMARY:PRAR 2026 Annual Spring Fling Auction Event
LOCATION:Stratton Elementary School 1201 5th Street  Newport WA 99156
ORGANIZER;CN=pranimalrescue_7lq67h:MAILTO:barbgrover6366@gmail.com
DTSTART;TZID=Etc/GMT+0:20260418T160000
DTEND;TZID=Etc/GMT+0:20260418T200000
X-ALT-DESC;FMTTYPE=TEXT/HTML:
CATEGORIES:General
URL;VALUE=URI:https://pranimalrescue.org/mc-events/prar-2026-annual-spring-
 fling-auction-event/
METHOD:PUBLISH
END:VEVENT
END:VCALENDAR